BEGIN:VCALENDAR
VERSION:2.0
PRODID:ics.py - http://git.io/lLljaA
BEGIN:VEVENT
DTSTAMP:20260709T130000Z
DESCRIPTION:Vorlesen für Seniorinnen & Senioren. Immer von 15 bis 16 Uhr. Termine im zweiten Halbjahr 2026: 09.07./13.08./10.09./08.10./12.11./10.12.Ehrenamtliche Bücherbegeisterte haben ausgewählte Bücher im Gepäck und lesen daraus vor.Die Veranstaltung findet in der Stadtteilbücherei Haunstetten statt. Aufzug ist vorhanden!Anmeldung erbeten. Info: 0821 324 2726 Die Teilnehmendenzahl ist auf 20 Personen begrenzt. Eintritt frei
DTEND:20260709T140000Z
LOCATION:Stadtteilbücherei Haunstetten\, Tattenbachstraße 15\, 86179 Augsburg\, DE
ORGANIZER;CN=Stadtteilbücherei Haunstetten:mailto:Stadtteilbücherei Haunstetten
DTSTART:20260709T130000Z
SUMMARY:Vorlesen für Seniorinnen und Senioren
UID:3a58fd1d-94e7-4179-9f21-e3658613a1a9@3a58.org
END:VEVENT
END:VCALENDAR