BEGIN:VCALENDAR
VERSION:2.0
PRODID:ics.py - http://git.io/lLljaA
BEGIN:VEVENT
DTSTAMP:20260424T180000Z
DESCRIPTION:Inspiriert von NovalisMit Schauspiel\, Tanz\, Live-Musik und Gesang
LOCATION:Kulturhaus abraxas\, Sommestraße 30\, 86156 Augsburg\, DE
ORGANIZER;CN=Klexs Theater mit Augsburg München Schauspiel:mailto:Klexs Theater mit Augsburg München Schauspiel
DTSTART:20260424T180000Z
SUMMARY:Die blaue Blume - Klexs Theater mit Augsburg München Schauspiel
UID:97502b7e-a1b8-400d-9405-13e1816ce85a@9750.org
END:VEVENT
END:VCALENDAR