BEGIN:VCALENDAR
VERSION:2.0
PRODID:ics.py - http://git.io/lLljaA
BEGIN:VEVENT
DTSTAMP:20260723T130000Z
DESCRIPTION:Ein spielerischer Nachmittag für Groß und Klein.Fairer Handel. Recycling. Energiewende. Es gibt viele Ideen\, wie eine zukunftsfähige Welt aussehen kann. Mit Schoko-Quiz\, Nachhaltigkeits-Memory und Handy-Puzzle wollen wir spielerisch einige Anregungen für gemeinsames Handeln für Groß und Klein vermitteln. Mit Julia Kabatas\, Bildungsreferentin der Werkstatt Solidarische Welt e.V.
DTEND:20260723T150000Z
LOCATION:Tattenbachstraße 15\, 86179 Augsburg\, DE
ORGANIZER;CN=Stadtteilbücherei Haunstetten:mailto:Stadtteilbücherei Haunstetten
DTSTART:20260723T130000Z
SUMMARY:BibliotECO: Der Faire Handel - ein spielerischer Nachmittag für Groß und Klein
UID:39e8e305-536b-473b-8bab-d9f936d07c25@39e8.org
END:VEVENT
END:VCALENDAR