BEGIN:VCALENDAR
VERSION:2.0
PRODID:ics.py - http://git.io/lLljaA
BEGIN:VEVENT
DTSTAMP:20261126T090000Z
DESCRIPTION:Pimpernella Pumpelsack hat für Kinder ab 3 Jahren Geschichten des Waldes im Gepäck. Ein Erzähltheater über Mut und Magie. Unterstützt vom Kulturkreis Haunstetten.Eintritt 5 €Anmeldung über buecherei.haunstetten@augsburg.de oder in der Stadtteilbücherei Haunstetten. Tel.: 0821 324 2726Die Teilnehmendenzahl ist auf 80 begrenzt.
DTEND:20261126T100000Z
LOCATION:Stadtteilbücherei Haunstetten\, Tattenbachstraße 15\, 86179 Augsburg\, DE
ORGANIZER;CN=Stadtteilbücherei Haunstetten:mailto:Stadtteilbücherei Haunstetten
DTSTART:20261126T090000Z
SUMMARY:Kindertheater Pimpernella Pumpelsack
UID:34d51e61-378a-47a2-ab08-f6dff97aad67@34d5.org
END:VEVENT
END:VCALENDAR