BEGIN:VCALENDAR
VERSION:2.0
PRODID:ics.py - http://git.io/lLljaA
BEGIN:VEVENT
DTSTAMP:20260907T160000Z
DESCRIPTION:"Als die Lamas verschwanden"Autorenlesung mit Gisela JanochaEs geht um Liebe und Carlos den Salzbauern am größten Salzsee der Welt auf dem Altiplano\, der Hochebene Boliviens. Das Schicksal seiner Familie steht im Mittelpunkt der neuen Geschichte von Gisela Janocha.
DTEND:20260907T180000Z
LOCATION:Stadtteilbücherei Haunstetten\, Tattenbachstraße 15\, 86179 Augsburg\, DE
ORGANIZER;CN=Stadtteilbücherei Haunstetten:mailto:Stadtteilbücherei Haunstetten
DTSTART:20260907T160000Z
SUMMARY:Als die Lamas verschwanden - Autorenlesung mit Gisela Janocha
UID:6164d670-47b2-4238-aa6d-715a3504c673@6164.org
END:VEVENT
END:VCALENDAR