BEGIN:VCALENDAR
VERSION:2.0
PRODID:ics.py - http://git.io/lLljaA
BEGIN:VEVENT
DTSTAMP:20261119T143000Z
DESCRIPTION:Stricken\, Häkeln oder einfach ins Gespräch kommen in Nadjas Handarbeitsrunde.Die Termine\, immer von 15:30 bis 16:30 Uhr\, für das 2. Halbjahr 2026 sind: 16.7./17.9./15.10./19.11./17.12.Bitte gerne angefangene Handarbeitsstücke\, Strick- und Häkelutensilien mitbringen.Keine Anmeldung erforderlich.
DTEND:20261119T153000Z
LOCATION:Tattenbachstraße 15\, 86179 Augsburg\, DE
ORGANIZER;CN=Stadtteilbücherei Haunstetten:mailto:Stadtteilbücherei Haunstetten
DTSTART:20261119T143000Z
SUMMARY:BibliotECO: Strick- und Häkelrunde in Haunstetten
UID:2fd1b058-3f00-4f72-bf6a-58375ea1dd83@2fd1.org
END:VEVENT
END:VCALENDAR