BEGIN:VCALENDAR
VERSION:2.0
PRODID:ics.py - http://git.io/lLljaA
BEGIN:VEVENT
DTSTAMP:20260504T123000Z
DESCRIPTION:Haben Sie noch analoge Schätze zuhause\, die Sie ins digitale Zeitalter retten wollen? Bei uns haben Sie die Möglichkeit Schallplatten\, MCs\, Dokumente\, VHS-Kassetten und Dias sowie weiteres Filmmaterial zu digitalisieren. Bei dieser Veranstaltung zeigen wir Ihnen\, wie Sie unsere Digitalisierungsstationen selbstständig benutzen können.Der Eintritt ist frei. Wir bitten um Anmeldung über dieses Kontaktformular. Bitte geben Sie an\, zu welchem Datum Sie die Einführung buchen möchten und welche Digitalisierungsarten Sie interessieren.Um Einführungstermine zu anderen Wochentagen und Uhrzeiten zu buchen\, verwenden Sie bitte das Kontaktformular und geben Sie den gewünschten Tag\, die gewünschte Uhrzeit und die gewünschten Digitalisierungsarten an.Bitte USB-Stick und gültigen Büchereiausweis mit Passwort mitbringen. Für die Digitalisierung von VHS-Kassetten wird statt einem USB-Stick ein DVD-Rohling benötigt. Zum Mithören und Anschauen während der Digitalisierung werden Kopfhörer benötigt.Weitere Informationen zu den Stationen finden Sie unter diesem Link.
DTEND:20260504T133000Z
LOCATION:Stadtbücherei Augsburg\, Ernst-Reuter-Platz 1\, 86150 Augsburg\, DE
ORGANIZER;CN=Stadtbücherei Augsburg:mailto:Stadtbücherei Augsburg
DTSTART:20260504T123000Z
SUMMARY:Einführung in die Digitalisierungsstationen
UID:051804da-cc30-4b74-ad7a-0629fb1bfc9e@0518.org
END:VEVENT
END:VCALENDAR