BEGIN:VCALENDAR
VERSION:2.0
PRODID:ics.py - http://git.io/lLljaA
BEGIN:VEVENT
DTSTAMP:20260523T130000Z
DESCRIPTION:Ballet in drei Akten - für Kinder geeignet
LOCATION:Kulturhaus abraxas\, Sommestraße 30\, 86156 Augsburg\, DE
ORGANIZER;CN=The Giulia Dance Company:mailto:The Giulia Dance Company
DTSTART:20260523T130000Z
SUMMARY:Däumelinchen (ab 4)
UID:5e6aa51f-0003-44fd-aff4-38993b2fde21@5e6a.org
END:VEVENT
END:VCALENDAR