BEGIN:VCALENDAR
VERSION:2.0
PRODID:ics.py - http://git.io/lLljaA
BEGIN:VEVENT
DTSTAMP:20260505T180000Z
DESCRIPTION:Gründungsversammlung der Selbsthilfegruppe AuDHS (Autismus in Kombiantion mit ADHS). Willkommen sind alle Betroffenen mit und ohne Diagnose.
DTEND:20260505T193000Z
LOCATION:Barfüßerstr 4\, 86150 Augsburg\, DE
ORGANIZER;CN=Gesundheitsamt Stadt Augsburg:mailto:Gesundheitsamt Stadt Augsburg
DTSTART:20260505T180000Z
SUMMARY:Gründung der Selbsthilfegruppe AuDHS
UID:74629120-5b40-496f-81ea-212265567ac8@7462.org
END:VEVENT
END:VCALENDAR