BEGIN:VCALENDAR
VERSION:2.0
PRODID:ics.py - http://git.io/lLljaA
BEGIN:VEVENT
DTSTAMP:20260514T130000Z
DESCRIPTION:Gastspiel im Jungen Theater Augsburg (abraxas-Südflügel)
LOCATION:Kulturhaus abraxas\, Sommestraße 30\, 86156 Augsburg\, DE
ORGANIZER;CN=Theater "Die Prinzenbude":mailto:Theater "Die Prinzenbude"
DTSTART:20260514T130000Z
SUMMARY:Elfi in Gefahr - Abenteuer unter der Baumwurzel
UID:b0e6c038-ab78-44bb-aee7-395e2efed865@b0e6.org
END:VEVENT
END:VCALENDAR