BEGIN:VCALENDAR
VERSION:2.0
PRODID:ics.py - http://git.io/lLljaA
BEGIN:VEVENT
DTSTAMP:20260520T170000Z
DESCRIPTION:Referent: Ferdinand Mießl (unabhängiger Energieberater)Die Photovoltaik-Online-Vorträge werden vom Landratsamt Aichach-Friedberg in Zusammenarbeit mit der Stadt Augsburg organisiert und finden im Rahmen des LEADER-geförderten Projekts „Solaroffensive Wittelsbacher Land“ statt.Die Teilnahme an den Veranstaltungen ist kostenfrei. Der Teilnahme-Link für die Online-Vorträge wird nach vorheriger Anmeldung verschickt. Nähere Informationen\, die Anmeldemöglichkeiten und das komplette Jahresprogramm sind auf der Seite augsburg.de/solaroffensive zu finden.Weitere Informationen:Stadt Augsburg – Umweltamt\, Tel.: 0821 324-7322\, E-Mail: solaroffensive@augsburg.de
DTEND:20260520T180000Z
ORGANIZER;CN=Umweltamt der Stadt Augsburg in Kooperation mit den Landkreisen Augsburg und Aichach-Friedberg:mailto:Umweltamt der Stadt Augsburg in Kooperation mit den Landkreisen Augsburg und Aichach-Friedberg
DTSTART:20260520T170000Z
SUMMARY:Online-Vortrag „Balkonkraftwerke – Sonnenstrom für alle"
UID:19eb9da3-09f7-4df0-a4d0-3b202094aff4@19eb.org
END:VEVENT
END:VCALENDAR