BEGIN:VCALENDAR
VERSION:2.0
PRODID:ics.py - http://git.io/lLljaA
BEGIN:VEVENT
DTSTAMP:20260723T163000Z
DESCRIPTION:Online-Vortrag zum Thema Photovoltaik vom Landratsamt Oberallgäu in Zusammenarbeit mit der Stadt Augsburg
DTEND:20260723T180000Z
ORGANIZER;CN=Umweltamt der Stadt Augsburg in Kooperation mit den Landkreisen Augsburg und Aichach-Friedberg:mailto:Umweltamt der Stadt Augsburg in Kooperation mit den Landkreisen Augsburg und Aichach-Friedberg
DTSTART:20260723T163000Z
SUMMARY:Online-Vortrag „PV\, Speicher & Co im effizienten Zusammenspiel "
UID:dd3284f7-cbf8-4e17-b663-d18f1a48359e@dd32.org
END:VEVENT
END:VCALENDAR