BEGIN:VCALENDAR
VERSION:2.0
PRODID:ics.py - http://git.io/lLljaA
BEGIN:VEVENT
DTSTAMP:20260715T160000Z
DESCRIPTION:Referent: Michael Vogtmann (DGS Franken e.V.)Die Photovoltaik-Online-Vorträge werden vom Landratsamt Aichach-Friedberg in Zusammenarbeit mit der Stadt Augsburg organisiert und finden im Rahmen des LEADER-geförderten Projekts „Solaroffensive Wittelsbacher Land“ statt.Die Teilnahme an den Veranstaltungen ist kostenfrei. Der Teilnahme-Link für die Online-Vorträge wird nach vorheriger Anmeldung verschickt. Nähere Informationen\, die Anmeldemöglichkeiten und das komplette Jahresprogramm sind auf der Seite augsburg.de/solaroffensive zu finden.Weitere Informationen:Stadt Augsburg – Umweltamt\, Tel.: 0821 324-7322\, E-Mail: solaroffensive@augsburg.de
DTEND:20260715T180000Z
ORGANIZER;CN=Umweltamt der Stadt Augsburg in Kooperation mit den Landkreisen Augsburg und Aichach-Friedberg:mailto:Umweltamt der Stadt Augsburg in Kooperation mit den Landkreisen Augsburg und Aichach-Friedberg
DTSTART:20260715T160000Z
SUMMARY:Online-Vortrag „Weiterbetrieb von Ü20-PV-Anlagen"
UID:d93f960a-6817-43fc-8d88-9db1393a3fce@d93f.org
END:VEVENT
END:VCALENDAR