BEGIN:VCALENDAR
VERSION:2.0
PRODID:ics.py - http://git.io/lLljaA
BEGIN:VEVENT
DTSTAMP:20260617T120000Z
DESCRIPTION:Referent: Michael Vogtmann (DGS Franken e.V.)Die Photovoltaik-Online-Vorträge werden vom Landratsamt Aichach-Friedberg in Zusammenarbeit mit der Stadt Augsburg organisiert und finden im Rahmen des LEADER-geförderten Projekts „Solaroffensive Wittelsbacher Land“ statt.Die Teilnahme an den Veranstaltungen ist kostenfrei. Der Teilnahme-Link für die Online-Vorträge wird nach vorheriger Anmeldung verschickt. Nähere Informationen\, die Anmeldemöglichkeiten und das komplette Jahresprogramm sind auf der Seite augsburg.de/solaroffensive zu finden.Weitere Informationen:Stadt Augsburg – Umweltamt\, Tel.: 0821 324-7322\, E-Mail: solaroffensive@augsburg.de
DTEND:20260617T140000Z
ORGANIZER;CN=Umweltamt der Stadt Augsburg in Kooperation mit den Landkreisen Augsburg und Aichach-Friedberg:mailto:Umweltamt der Stadt Augsburg in Kooperation mit den Landkreisen Augsburg und Aichach-Friedberg
DTSTART:20260617T120000Z
SUMMARY:Online-Vortrag „Photovoltaik und Multi-Use-Speicher für Unternehmen""
UID:c5e34d78-b0c8-4acc-a12d-45de2c4bbd3f@c5e3.org
END:VEVENT
END:VCALENDAR