BEGIN:VCALENDAR
VERSION:2.0
PRODID:ics.py - http://git.io/lLljaA
BEGIN:VEVENT
DTSTAMP:20260701T120000Z
DESCRIPTION:Gut beraten\, besser gepflegt: Der Pflegestützpunkt Augsburg ist ein Beratungsangebot für Pflegebedürftige jeden Alters sowie pflegende Angehörige und Zugehörige.
DTEND:20260701T133000Z
LOCATION:Familie-Einstein-Straße 1\, 86156 Augsburg\, DE
ORGANIZER;CN=Stadt Augsburg Pflegestützpunkt:mailto:Stadt Augsburg Pflegestützpunkt
DTSTART:20260701T120000Z
SUMMARY:Pflegestützpunkt Außensprechstunde
UID:29f6559d-ddcd-46de-9283-c06a182831bb@29f6.org
END:VEVENT
END:VCALENDAR