BEGIN:VCALENDAR
VERSION:2.0
PRODID:ics.py - http://git.io/lLljaA
BEGIN:VEVENT
DTSTAMP:20260603T120000Z
DESCRIPTION:Gut beraten\, besser gepflegt: Der Pflegestützpunkt Augsburg ist ein Beratungsangebot für Pflegebedürftige jeden Alters sowie pflegende Angehörige und Zugehörige.
DTEND:20260603T133000Z
LOCATION:Familie-Einstein-Straße 1\, 86156 Augsburg\, DE
ORGANIZER;CN=Stadt Augsburg Pflegestützpunkt:mailto:Stadt Augsburg Pflegestützpunkt
DTSTART:20260603T120000Z
SUMMARY:Pflegestützpunkt Außensprechstunde
UID:fe1f3155-8036-4821-a034-be5f66a2953d@fe1f.org
END:VEVENT
END:VCALENDAR