BEGIN:VCALENDAR
VERSION:2.0
PRODID:ics.py - http://git.io/lLljaA
BEGIN:VEVENT
DTSTAMP:20260506T120000Z
DESCRIPTION:Gut beraten\, besser gepflegt: Der Pflegestützpunkt Augsburg ist ein Beratungsangebot für Pflegebedürftige jeden Alters sowie pflegende Angehörige und Zugehörige.
DTEND:20260506T133000Z
LOCATION:Familie-Einstein-Straße 1\, 86156 Augsburg\, DE
ORGANIZER;CN=Stadt Augsburg Pflegestützpunkt:mailto:Stadt Augsburg Pflegestützpunkt
DTSTART:20260506T120000Z
SUMMARY:Pflegestützpunkt Außensprechstunde
UID:f7789534-22c1-450f-b799-d714f57407b4@f778.org
END:VEVENT
END:VCALENDAR