BEGIN:VCALENDAR
VERSION:2.0
PRODID:ics.py - http://git.io/lLljaA
BEGIN:VEVENT
DTSTAMP:20260609T120000Z
DESCRIPTION:Gut beraten\, besser gepflegt: Der Pflegestützpunkt Augsburg ist ein Beratungsangebot für Pflegebedürftige jeden Alters sowie pflegende Angehörige und Zugehörige.
DTEND:20260609T133000Z
LOCATION:Maximilianstraße 28\, Augsburg\, DE
ORGANIZER;CN=Stadt Augsburg Pflegestützpunkt:mailto:Stadt Augsburg Pflegestützpunkt
DTSTART:20260609T120000Z
SUMMARY:Pflegestützpunkt Außensprechstunde
UID:7c0cb952-4345-456d-adc0-1ac3bd35d90c@7c0c.org
END:VEVENT
END:VCALENDAR