BEGIN:VCALENDAR
VERSION:2.0
PRODID:ics.py - http://git.io/lLljaA
BEGIN:VEVENT
DTSTAMP:20260512T120000Z
DESCRIPTION:Gut beraten\, besser gepflegt: Der Pflegestützpunkt Augsburg ist ein Beratungsangebot für Pflegebedürftige jeden Alters sowie pflegende Angehörige und Zugehörige.
DTEND:20260512T133000Z
LOCATION:Maximilianstraße 28\, Augsburg\, DE
ORGANIZER;CN=Stadt Augsburg Pflegestützpunkt:mailto:Stadt Augsburg Pflegestützpunkt
DTSTART:20260512T120000Z
SUMMARY:Pflegestützpunkt Außensprechstunde
UID:fa39e18d-9a48-4d95-8a82-1a4473305687@fa39.org
END:VEVENT
END:VCALENDAR