BEGIN:VCALENDAR
VERSION:2.0
PRODID:ics.py - http://git.io/lLljaA
BEGIN:VEVENT
DTSTAMP:20260425T080000Z
DESCRIPTION:Unter dem Motto „Frauenpower für Balance und Empowerment – Deine Messe für Bildung und Beruf“ veranstalten die Stadt Augsburg und die Volkshochschule Augsburg (vhs) am Samstag\, 25. April\, zur Frauenberufsmesse in den Räumen der vhs am Willy-Brandt-Platz 3a.
DTEND:20260425T130000Z
LOCATION:Willy-Brandt-Platz 3a\, 86153 Augsburg\, DE
ORGANIZER;CN=Stadt Augsburg und Volkshochschule Augsburg:mailto:Stadt Augsburg und Volkshochschule Augsburg
DTSTART:20260425T080000Z
SUMMARY:Frauenberufsmesse
UID:a77fc3c3-9af2-498d-9412-ebd0cdbc689d@a77f.org
END:VEVENT
END:VCALENDAR