BEGIN:VCALENDAR
VERSION:2.0
PRODID:ics.py - http://git.io/lLljaA
BEGIN:VEVENT
DTSTAMP:20260721T120000Z
DESCRIPTION:Kita-Kinder lieben Zoobesuche\, denn an keinem anderen Ort können sie Tiere aus aller Welt so hautnah erleben. Doch die erwachsenen Begleitpersonen fragen sich manchmal\, inwiefern zoologische Gärten in unsere Zeit passen. Auf einer 2-stündigen Fortbildung wollen wir zeigen\, was einen modernen Zoo ausmacht\, all ihre Fragen beantworten und gerne auch diskutieren.Anmeldung unter eveeno.com
DTEND:20260721T140000Z
LOCATION:Zoologischer Garten Augsburg\, Brehmplatz 1\, 86161 Augsburg\, DE
ORGANIZER;CN=Amt für Kindertagesbetreuung:mailto:Amt für Kindertagesbetreuung
DTSTART:20260721T120000Z
SUMMARY:Sind Zoos noch zeitgemäß?
UID:33211e2a-dc6a-405c-b853-5d023a54ef21@3321.org
END:VEVENT
END:VCALENDAR