BEGIN:VCALENDAR
VERSION:2.0
PRODID:ics.py - http://git.io/lLljaA
BEGIN:VEVENT
DTSTAMP:20260625T070000Z
DESCRIPTION:Wie viel Neugier ist normal – und wann braucht es Schutz und Intervention? Sexuelle Ausdrucksformen gehören zur kindlichen Entwicklung. Doch wie lassen sich altersgemäße Körpererkundung von grenzverletzendem Verhalten durch Gleichaltrige unterscheiden? In dieser Fortbildung erhalten pädagogische Fachkräfte aus Kindertageseinrichtungen Orientierung im Umgang mit sexuellen Grenzverletzungen unter Kindern. Die Veranstaltung bietet neben praxisnahen Informationen zu genanntem Thema auch Basiswissen zu sexualisierter Gewalt ausgehend von erwachsenen Täter:innen.Anmeldung unter eveeno.com
DTEND:20260625T100000Z
LOCATION:Hermanstraße 1\, 86150 Augsburg\, DE
ORGANIZER;CN=Amt für Kindertagesbetreuung:mailto:Amt für Kindertagesbetreuung
DTSTART:20260625T070000Z
SUMMARY:Doktorspiele oder sexualisierte Übergriffe? – Grenzverletzungen durch Kinder erkennen und sicher begleiten
UID:7bfdd24b-ecd5-40b4-9baa-b3620a23aa01@7bfd.org
END:VEVENT
END:VCALENDAR