BEGIN:VCALENDAR
VERSION:2.0
PRODID:ics.py - http://git.io/lLljaA
BEGIN:VEVENT
DTSTAMP:20260602T140000Z
DESCRIPTION:An jedem ersten Dienstag im Monat  von 16 bis 18 Uhr können Kunstinteressierte ihre "Schätze" von den Mitarbeiterinnen und Mitarbeitern der Kunstsammlungen und Museen Augsburg begutachten lassen. 
DTEND:20260602T160000Z
LOCATION:Maximilianstraße 46\, Augsburg\, DE
ORGANIZER;CN=Kunstsammlungen und Museen Augsburg:mailto:Kunstsammlungen und Museen Augsburg
DTSTART:20260602T140000Z
SUMMARY:Kunstsprechstunde: Experten geben Auskunft
UID:16b0c606-2cae-4a72-b24b-e4473d90e50c@16b0.org
END:VEVENT
END:VCALENDAR