BEGIN:VCALENDAR
VERSION:2.0
PRODID:ics.py - http://git.io/lLljaA
BEGIN:VEVENT
DTSTAMP:20260505T140000Z
DESCRIPTION:An jedem ersten Dienstag im Monat  von 16 bis 18 Uhr können Kunstinteressierte ihre "Schätze" von den Mitarbeiterinnen und Mitarbeitern der Kunstsammlungen und Museen Augsburg begutachten lassen. 
DTEND:20260505T160000Z
LOCATION:Maximilianstraße 46\, Augsburg\, DE
ORGANIZER;CN=Kunstsammlungen und Museen Augsburg:mailto:Kunstsammlungen und Museen Augsburg
DTSTART:20260505T140000Z
SUMMARY:Kunstsprechstunde: Experten geben Auskunft
UID:b0580bef-02bd-40a9-85b3-83d2bb93e93c@b058.org
END:VEVENT
END:VCALENDAR