BEGIN:VCALENDAR
VERSION:2.0
PRODID:ics.py - http://git.io/lLljaA
BEGIN:VEVENT
DTSTAMP:20260326T090000Z
DESCRIPTION:In diesem Webinar erfahren Sie\, warum die emotionale Intelligenz Teil des Unternehmen-Gens zukunftsorientierter Unternehmerinnen und Unternehmer ist\, wie Übernehmende mit echtem Interesse am Menschen ein positives\, produktives Arbeitsumfeld gestalten und mit diesen gemeinsam langfristig erfolgreich sein können und welche Führungsstile heute dazu beitragen\, Talente im Unternehmen zu halten.
DTEND:20260326T100000Z
ORGANIZER;CN=IHK Schwaben:mailto:IHK Schwaben
DTSTART:20260326T090000Z
SUMMARY:IHK Spezial Webinar: Das Unternehmens-GEN: die emotional kompetente Persönlichkeit als Schlüssel für erfolgreiche Nachfolge
UID:ee107b7e-559b-4086-a79d-a11d8c1b80fb@ee10.org
END:VEVENT
END:VCALENDAR