BEGIN:VCALENDAR
VERSION:2.0
PRODID:ics.py - http://git.io/lLljaA
BEGIN:VEVENT
DTSTAMP:20260521T070000Z
DESCRIPTION:SchulkonzerteDo\, 21. Mai │ 9 & 10.45 Uhr │ Klasse 2 bis 4SpielwieseEnsemble aTunesWeitere Infos
ORGANIZER;CN=Kulturamt der Stadt Augsburg:mailto:Kulturamt der Stadt Augsburg
DTSTART:20260521T070000Z
SUMMARY:KLING KLANG GLORIA! – Das Mozartfest für Kinder
UID:a4ecf098-c7e3-462c-8972-09947a77ab42@a4ec.org
END:VEVENT
END:VCALENDAR