BEGIN:VCALENDAR
VERSION:2.0
PRODID:ics.py - http://git.io/lLljaA
BEGIN:VEVENT
DTSTAMP:20260519T074500Z
DESCRIPTION:SchulkonzerteDi\, 19. Mai │ 9.45 & 18.30 Uhr │ Klasse 2 bis 4Klangschule: Happy New Ears!4 Augsburger GrundschulklassenWeitere Infos
ORGANIZER;CN=Kulturamt der Stadt Augsburg:mailto:Kulturamt der Stadt Augsburg
DTSTART:20260519T074500Z
SUMMARY:KLING KLANG GLORIA! – Das Mozartfest für Kinder
UID:cc18a107-4f93-48a2-91c8-475c0d389bd7@cc18.org
END:VEVENT
END:VCALENDAR