BEGIN:VCALENDAR
VERSION:2.0
PRODID:ics.py - http://git.io/lLljaA
BEGIN:VEVENT
DTSTAMP:20260518T060000Z
DESCRIPTION:SchulkonzerteMo\, 18. Mai │ 8 bis 13 Uhr │ Klasse 1 bis 4VertretungsstundeLiederprojektWeitere Infos
ORGANIZER;CN=Kulturamt der Stadt Augsburg:mailto:Kulturamt der Stadt Augsburg
DTSTART:20260518T060000Z
SUMMARY:KLING KLANG GLORIA! – Das Mozartfest für Kinder
UID:90aa6d65-89ca-444d-a523-7204cfc5e1c8@90aa.org
END:VEVENT
END:VCALENDAR