BEGIN:VCALENDAR
VERSION:2.0
PRODID:ics.py - http://git.io/lLljaA
BEGIN:VEVENT
DTSTAMP:20260513T080000Z
DESCRIPTION:SchulkonzerteJazzraketeTom Tornado Ensemble & Raketenchor der Grundschule TäfertingenWeitere Infos
ORGANIZER;CN=Kulturamt der Stadt Augsburg:mailto:Kulturamt der Stadt Augsburg
DTSTART:20260513T080000Z
SUMMARY:KLING KLANG GLORIA! – Das Mozartfest für Kinder
UID:af2ca1ef-d756-4cce-9857-fb74670de1af@af2c.org
END:VEVENT
END:VCALENDAR