BEGIN:VCALENDAR
VERSION:2.0
PRODID:ics.py - http://git.io/lLljaA
BEGIN:VEVENT
DTSTAMP:20260511T080000Z
DESCRIPTION:SchulkonzerteMo\, 11. Mai │ 10 Uhr │ Klasse 1 bis 4Federleicht – Wenn Vögel SingenRias Kammerchor BerlinWeitere Infos
ORGANIZER;CN=Kulturamt der Stadt Augsburg:mailto:Kulturamt der Stadt Augsburg
DTSTART:20260511T080000Z
SUMMARY:KLING KLANG GLORIA! – Das Mozartfest für Kinder
UID:d5915810-fc5c-4100-9fc6-0f816c0f08f8@d591.org
END:VEVENT
END:VCALENDAR