BEGIN:VCALENDAR
VERSION:2.0
PRODID:ics.py - http://git.io/lLljaA
BEGIN:VEVENT
DTSTAMP:20260505T090000Z
DESCRIPTION:SCHULKONZERTEDi\, 5. Mai │ 9 & 10.45 Uhr │ Klasse 3 bis 5KLANGWINDFORSCHEREnsemble Windstärke JazzWeitere Infos
ORGANIZER;CN=Kulturamt der Stadt Augsburg:mailto:Kulturamt der Stadt Augsburg
DTSTART:20260505T090000Z
SUMMARY:KLING KLANG GLORIA! – Das Mozartfest für Kinder
UID:1bafb003-dc3f-417c-9e5c-b29dd097ec1e@1baf.org
END:VEVENT
END:VCALENDAR