BEGIN:VCALENDAR
VERSION:2.0
PRODID:ics.py - http://git.io/lLljaA
BEGIN:VEVENT
DTSTAMP:20260517T090000Z
DESCRIPTION:FamilienkonzerteSo\, 17. Mai │ 11 Uhr │ Kleiner Goldener SaalPlay_Full (ab 5)Stegreif Orchester Berlin & Gymnasium bei St. StephanWeitere Infos
ORGANIZER;CN=Kulturamt der Stadt Augsburg:mailto:Kulturamt der Stadt Augsburg
DTSTART:20260517T090000Z
SUMMARY:KLING KLANG GLORIA! – Das Mozartfest für Kinder
UID:915a7c8a-928a-4253-a64a-e04ce44cf130@915a.org
END:VEVENT
END:VCALENDAR