BEGIN:VCALENDAR
VERSION:2.0
PRODID:ics.py - http://git.io/lLljaA
BEGIN:VEVENT
DTSTAMP:20260514T090000Z
DESCRIPTION:FamilienkonzerteDo\, 14. Mai │ 11 Uhr │ Kulturhaus abraxasKarauke Family – An die Saiten\, fertig\, los! (ab 5)KaraUke AugsburgWeitere Infos / Tickets hier
ORGANIZER;CN=Kulturamt der Stadt Augsburg:mailto:Kulturamt der Stadt Augsburg
DTSTART:20260514T090000Z
SUMMARY:AUSVERKAUFT! - KLING KLANG GLORIA! – Das Mozartfest für Kinder
UID:db4834e8-e3b8-4e46-a131-5309787d98e7@db48.org
END:VEVENT
END:VCALENDAR