BEGIN:VCALENDAR
VERSION:2.0
PRODID:ics.py - http://git.io/lLljaA
BEGIN:VEVENT
DTSTAMP:20260510T130000Z
DESCRIPTION:FamilienkonzertSo\, 10. Mai │ 15 Uhr │ Pfarrsaal St. Konrad\, BärenkellerSieben Tönchen auf einen Streich! (ab 5)Tönchen-EnsembleWeitere Infos / Reservierung hier
ORGANIZER;CN=Kulturamt der Stadt Augsburg:mailto:Kulturamt der Stadt Augsburg
DTSTART:20260510T130000Z
SUMMARY:KLING KLANG GLORIA! – Das Mozartfest für Kinder
UID:cae645af-1c2b-487f-88d9-c781d3b745f2@cae6.org
END:VEVENT
END:VCALENDAR