BEGIN:VCALENDAR
VERSION:2.0
PRODID:ics.py - http://git.io/lLljaA
BEGIN:VEVENT
DTSTAMP:20260531T173000Z
DESCRIPTION:Juan Crisóstomo ArriagaSinfonie in D-DurWolfgang Amadeus MozartKonzert für Klarinette und Orchester A-Dur KV 622Joseph HaydnSinfonie Nr. 49 f-Moll „La Passione“ Hob. I:49Warum sollte ich dieses Konzert nicht verpassen?Den wohl größten musikalischen Herzenswunsch haben wir uns für den Schluss aufgehoben: Was wäre die heutige Musikwelt ohne Sir John Eliot Gardiner? Es gibt nur wenige Künstlerinnen\, die nicht nur die komplette Aufführungspraxis\, sondern auch Generationen von Musikerinnen derart geprägt haben. Erleben Sie eine der Sternstunden der Augsburger Mozartfest-Geschichte\, wenn Sir John Eliot und sein eigenes Constellation Orchestra den Glanz des Rokoko zum Klingen bringen.Nicola Boud KlarinetteThe Constellation OrchestraSir John Eliot Gardiner LeitungTickets
LOCATION:Ulrichsplatz 20\, Augsburg\, DE
ORGANIZER;CN=Kulturamt der Stadt Augsburg:mailto:Kulturamt der Stadt Augsburg
DTSTART:20260531T173000Z
SUMMARY:SIR JOHN ELIOT GARDINER: ROKOKO
UID:6ac60d28-2d86-4906-b1e7-6ce9cc9fd513@6ac6.org
END:VEVENT
END:VCALENDAR