BEGIN:VCALENDAR
VERSION:2.0
PRODID:ics.py - http://git.io/lLljaA
BEGIN:VEVENT
DTSTAMP:20260517T173000Z
DESCRIPTION:Werke von Wolfgang Amadeus Mozart\, Manuel de Falla\,Igor Strawinsky und Camille Saint-Saëns u. a.Warum sollte ich dieses Konzert nicht verpassen?Ein Mandolinenspieler\, der für einen Grammy nominiert wurde? Gibt es tatsächlich und er heißt Avi Avital. Er beherrscht dieses spannende Instrument nicht nur meisterlich\, sondern überwindet dabei auch allerlei musikalische Grenzen. Die Kombination Mandoline-Akkordeon kann man sich eigentlich gar nicht ausdenken. Wenn man aber Avi Avital und die gleichermaßen grandiose wie charmante Akkordeonistin Ksenija Sidorova im Konzert erlebt\, glaubt man\, diese Kombination wäre das Natürlichste und Selbstverständlichste auf der Welt.Avi Avital MandolineKsenija Sidorova AkkordeonTickets
LOCATION:Jesuitengasse 12\, 86152 Augsburg\, DE
ORGANIZER;CN=Kulturamt der Stadt Augsburg:mailto:Kulturamt der Stadt Augsburg
DTSTART:20260517T173000Z
SUMMARY:AVI AVITAL - KSENIJA SIDOROVA : FUSIONEN
UID:c9054368-4e4c-465f-a2e1-909b2b1dd80a@c905.org
END:VEVENT
END:VCALENDAR