BEGIN:VCALENDAR
VERSION:2.0
PRODID:ics.py - http://git.io/lLljaA
BEGIN:VEVENT
DTSTAMP:20260516T173000Z
DESCRIPTION:Werke von Richard Egües\, Compay Segundo\,Wolfgang Amadeus Mozart u. a. in Bearbeitungen für The SarahbandaWarum sollte ich dieses Konzert nicht verpassen?Nein\, Mozart war nie auf Kuba. Gerüchten zufolge hatte Leopold diese Reise aber tatsächlich geplant und dann hätte der junge Wolfgang sicher nicht nur Freude an dicken Havannas und Cuba Libre gefunden\, sondern wäre ganz tief in den traditionellen Rhythmen und Melodien der Karibikinsel versunken. Eine kleine Ahnung von Mozarts potenzieller „pequeña serenata“ nocturna bekommt man bei einer grandiosen Fiesta Cubana mit Multitalent Sarah Willis und ihrer Sarahbanda\, einem Ensemble von Spezialist*innen für Mambo\, Conga und Cha-Cha-Chá!The SarahbandaSarah Willis HornTickets
LOCATION:Jesuitengasse 12\, 86152 Augsburg\, DE
ORGANIZER;CN=Kulturamt der Stadt Augsburg:mailto:Kulturamt der Stadt Augsburg
DTSTART:20260516T173000Z
SUMMARY:THE SARAHBANDA: MOZART Y MAMBO
UID:e8acac83-11e1-4e8d-8236-b5451757df9e@e8ac.org
END:VEVENT
END:VCALENDAR