BEGIN:VCALENDAR
VERSION:2.0
PRODID:ics.py - http://git.io/lLljaA
BEGIN:VEVENT
DTSTAMP:20260515T173000Z
DESCRIPTION:Sergej ProkofjewVisions fugitives op. 22aWolfgang Amadeus MozartKonzert für drei Klaviere KV 242 (Bearb. für zwei Klaviere)Johann Sebastian BachKonzert für zwei Klaviere C-Dur BWV 1061Joseph HaydnSymphonie Nr. 45 fis-Moll „Der Abschied“ Hob. I:45Warum sollte ich dieses Konzert nicht verpassen?Im vergangenen Jahr war der Auftritt der Jussen-Brüder beim Mozartfest ein Ereignis\, das sich bei vielen nachdrücklich eingebrannt hat: perfekte Harmonie\, verbunden mit musikalischer Wucht\, Intensität und Feingefühl. 2026 kommen die Jussens wieder nach Augsburg. Diesmal mit einem der legendärsten Orchester der Welt\, der Academy of St. Martin in the Fields\, die ihrerseits vor zwei Jahren mit Julia Fischer für Gänsehaut gesorgt hat. Ein Best-of mit ganz vielen unserer Lieblingsmenschen.Lucas und Arthur Jussen KlavierAcademy of St. Martin in the FieldsTomo Keller LeitungTickets
LOCATION:Ulrichsplatz 20\, Augsburg\, DE
ORGANIZER;CN=Kulturamt der Stadt Augsburg:mailto:Kulturamt der Stadt Augsburg
DTSTART:20260515T173000Z
SUMMARY:LUCAS UND ARTHUR JUSSEN - ACADEMY OF ST. MARTIN IN THE FIELDS: LIEBLINGSMENSCHEN
UID:ea6987c8-26e9-46fd-aef7-9cc73cc422a8@ea69.org
END:VEVENT
END:VCALENDAR