BEGIN:VCALENDAR
VERSION:2.0
PRODID:ics.py - http://git.io/lLljaA
BEGIN:VEVENT
DTSTAMP:20260514T173000Z
DESCRIPTION:Johann Sebastian BachSonaten für Violine & Cembalo BWV 1016\, 1017 und 1018sowie Werke von Georg Friedrich Händel undCarl Philipp Emanuel BachWarum sollte ich dieses Konzert nicht verpassen?Isabelle Faust hat seit ihrem Sieg beim ersten Leopold Mozart Violinwettbewerb 1987 eine besondere Verbindung zu Augsburg. Inzwischen ist sie längst eine der größten Geiger*innen auf diesem Planeten – und wahrscheinlich darüber hinaus. Mit Kristian Bezuidenhout\, der ihr in Sachen Musikalität und Prominenz in nichts nachsteht\, widmet sie sich der Benchmark der Violinliteratur (und der Musik überhaupt): Bach. Wer bei Isabelle Fausts Bach-Soloabend 2019 dabei war\, weiß: Die Zeit bleibt für eine Konzertlänge stehen.Isabelle Faust ViolineKristian Bezuidenhout Cembalo
LOCATION:Jesuitengasse 12\, 86152 Augsburg\, DE
ORGANIZER;CN=Kulturamt der Stadt Augsburg:mailto:Kulturamt der Stadt Augsburg
DTSTART:20260514T173000Z
SUMMARY:ISABELLE FAUST - KRISTIAN BEZUIDENHOUT: BENCHMARK
UID:3a663781-478a-42b5-8f14-dc11820ad2f4@3a66.org
END:VEVENT
END:VCALENDAR