BEGIN:VCALENDAR
VERSION:2.0
PRODID:ics.py - http://git.io/lLljaA
BEGIN:VEVENT
DTSTAMP:20260510T173000Z
DESCRIPTION:Werke von Charles Villiers Stanford\, Edward Elgar\,Maurice Ravel\, William Byrd\, Felix MendelssohnBartholdy\, Ralph Vaughan Williams\, Gerald Finzi\,Judith Bingham u. a. sowie VogelstimmenWarum sollte ich dieses Konzert nicht verpassen?Man könnte meinen\, man sitzt in der größten und schönsten Volière überhaupt: Im Parktheater begibt sich einer der führenden Chöre der Welt gemeinsam mit Deutschlands bekanntestem Ornithologen auf einen Streifzug durch die Welt der Vogelstimmen in der Musik. Kaum eine Komponistin verfiel nicht der Faszination dieser Himmelsboten und ihrer Ur-Musik. Grund genug\, sie mit Tönen und Stimmen nachzuahmen und dabei Einblicke in den Kosmos zwitschernder\, gurrender\, pfeifender\, tirilierender Stimm-Akrobatik zu geben.Rias Kammerchor BerlinJustin Doyle LeitungDr. Uwe Westphal VogelstimmenimitatorTickets
LOCATION:Klausenberg 6\, 86199 Augsburg\, DE
ORGANIZER;CN=Kulturamt der Stadt Augsburg:mailto:Kulturamt der Stadt Augsburg
DTSTART:20260510T173000Z
SUMMARY:Rias Kammerchor Berlin: MIT DEN VÖGELN SINGEN
UID:55052c9d-ea2c-4344-a82c-b78ce19f7d02@5505.org
END:VEVENT
END:VCALENDAR