BEGIN:VCALENDAR
VERSION:2.0
PRODID:ics.py - http://git.io/lLljaA
BEGIN:VEVENT
DTSTAMP:20260509T173000Z
DESCRIPTION:Igor StrawinskyDrei Stücke für StreichquartettJohann Sebastian BachDie Kunst der Fuge BWV 1080: Contrapunctus XIVLudwig van BeethovenStreichquartett Nr. 16 F-Dur op. 135Dänische Volksmusik und EigenkompositionenWarum sollte ich dieses Konzert nicht verpassen?Zugegeben\, wie an der Nordseeküste schaut es auf gut Bannacker nicht aus. Aber wenn dort die vier Jungs des Danish String Quartet ihren einzigartigen Nordic-Folk-Sound auspacken\, dann wähnt man sich in den Dünen Nordjyllands zu liegen. Die intensive Mystik nordischer Sounds steckt auch im Rest des Programms: Bachs Kunst der Fuge ist wohl ein Mysterium für sich und Beethovens letztes vollendetes Werk stellt die Frage „Muss es sein?“ und beantwortet sie gleichermaßen: „Es muss sein!“ Genau wie dieser Abend.Tickets
LOCATION:Bannackerstraße 2\, 86199 Augsburg\, DE
ORGANIZER;CN=Kulturamt der Stadt Augsburg:mailto:Kulturamt der Stadt Augsburg
DTSTART:20260509T173000Z
SUMMARY:Danish String Quartett: NORDIC BY NATURE
UID:81b01c50-df42-435b-b325-a2c12ca3cbf2@81b0.org
END:VEVENT
END:VCALENDAR