BEGIN:VCALENDAR
VERSION:2.0
PRODID:ics.py - http://git.io/lLljaA
BEGIN:VEVENT
DTSTAMP:20260508T173000Z
DESCRIPTION:Werke von Arcangelo Corelli\, Claude Debussy\, NadjaBoulanger\, Michael Nyman\, Barbara Thompson u. a. inBearbeitungen für das Jess Gillam EnsembleWarum sollte ich dieses Konzert nicht verpassen?Ganz hoher Glitzer-Glamourfaktor ist garantiert\, wenn Jess Gillam und ihr kongeniales Ensemble die Bühne betreten. Die bezaubernde junge Britin hat mit ihren Freund*innen unfassbar großen Spaß beim Musizieren und zeigt dabei die ganze Bandbreite des Saxophons\, eines der vielseitigstenInstrumente überhaupt. Die Verbindung zwischen Gillam & Co. und ihrem Publikum ist einzigartig: Beim Konzert 2022 riss es alle wortwörtlich von den Sitzen. Das wollen wir natürlich gerne wieder sehen.Tickets
LOCATION:Jesuitengasse 12\, 86152 Augsburg\, DE
ORGANIZER;CN=Kulturamt der Stadt Augsburg:mailto:Kulturamt der Stadt Augsburg
DTSTART:20260508T173000Z
SUMMARY:Jess Gillam Ensemble: SHINING
UID:6e9ca373-ed2b-473e-9489-3887efe064fa@6e9c.org
END:VEVENT
END:VCALENDAR