BEGIN:VCALENDAR
VERSION:2.0
PRODID:ics.py - http://git.io/lLljaA
BEGIN:VEVENT
DTSTAMP:20260507T173000Z
DESCRIPTION:CHRISTOPH WILLIBALD GLUCK»Paride ed Elena« (Oper konzertant)Dauer: ca. 3 Stunden (mit Pause)Warum sollte ich dieses Konzert nicht verpassen?Mozarts Opern gehören definitiv zu seinen "Signature"-Kompositionen.Aber ohne den großen Opernreformator Gluckwären diese kaum denkbar gewesen. In seinen bahnbrechenden Werken räumte Gluck kräftig mit der Barockoper auf und hob Musik und Drama auf eine neue Ebene. Neben "Orfeo edEuridice" und "Alceste" ist "Paride ed Elena" die dritte der sogenannten Reformopern und in Augsburg wird zum wohl ersten Mal seit 200 Jahren die Titelrolle wieder von einem Mann gesungen. Ein spektakuläres Erlebnis.Samuel Mariño Paride | Roberta Mameli ElenaVanessa Waldhart Amor | Soula Parassidis AthenaCanthus ThuringiaAkademie für Alte Musik BerlinMichael Hofstetter LeitungTickets
LOCATION:Jesuitengasse 12\, 86152 Augsburg\, DE
ORGANIZER;CN=Kulturamt der Stadt Augsburg:mailto:Kulturamt der Stadt Augsburg
DTSTART:20260507T173000Z
SUMMARY:Akademie für alte Musik Berlin: PARIDE ED ELENA
UID:ee72c108-d128-45f1-a44d-cb389cc94370@ee72.org
END:VEVENT
END:VCALENDAR