BEGIN:VCALENDAR
VERSION:2.0
PRODID:ics.py - http://git.io/lLljaA
BEGIN:VEVENT
DTSTAMP:20260505T180000Z
DESCRIPTION:An diesem Abend ist ein wahres Dreamteam im Kesselhaus zu erleben: Für sein laut Die Zeit „beinahe größenwahnsinniges“ Projekt „Songs with Words“ kombiniert der amerikanisch-persisch-deutsche Singer-Songwriter Malakoff Kowalski Texte des Beat-Poeten Alan Ginsburg mit sinnlichen Klavierwerken von Chopin\, Schumann oder auch Debussy.
LOCATION:Riedingerstr. 26\, 86153 Augsburg\, DE
ORGANIZER;CN=Kulturamt der Stadt Augsburg:mailto:Kulturamt der Stadt Augsburg
DTSTART:20260505T180000Z
SUMMARY:CHILLY GONZALES: „SONGS WITH WORDS” Ausverkauft
UID:26217d4a-363d-45a0-8b56-ab22669ff04b@2621.org
END:VEVENT
END:VCALENDAR