BEGIN:VCALENDAR
VERSION:2.0
PRODID:ics.py - http://git.io/lLljaA
BEGIN:VEVENT
DTSTAMP:20260504T180000Z
DESCRIPTION:Ein Mann\, ein Klavier\, ein Bademantel – und keinerlei musikalische Grenzen: Mit Chilly Gonzales kommt eine wahre Legende für zwei Konzerte nach Augsburg ins Kesselhaus. In seinem Programm „Solo Piano“ verschmilzt Chilly mit dem Flügel und präsentiert Klavierminiaturen\, die ständig zwischen den verschiedensten Musikstilen changieren und dabei so beiläufig klingen\, als wären sie ihm gerade erst eingefallen – und doch sitzen sie wie maßgeschneidert.
LOCATION:Riedingerstr. 26\, 86153 Augsburg\, DE
ORGANIZER;CN=Kulturamt der Stadt Augsburg:mailto:Kulturamt der Stadt Augsburg
DTSTART:20260504T180000Z
SUMMARY:CHILLY GONZALES: „SOLO PIANO“ Ausverkauft
UID:c99dcc6e-4f56-4fb4-9aa7-23de9f95ddc1@c99d.org
END:VEVENT
END:VCALENDAR