BEGIN:VCALENDAR
VERSION:2.0
PRODID:ics.py - http://git.io/lLljaA
BEGIN:VEVENT
DTSTAMP:20260508T180000Z
DESCRIPTION:Ein Konzert mit SWING TANZEN VERBOTEN
LOCATION:Kulturhaus abraxas\, Sommestraße 30\, 86156 Augsburg\, DE
ORGANIZER;CN=Text will Töne:mailto:Text will Töne
DTSTART:20260508T180000Z
SUMMARY:Swing Alive!
UID:cf3c7c9d-b1f3-4b1d-8bf6-c3b52f41eb06@cf3c.org
END:VEVENT
END:VCALENDAR