BEGIN:VCALENDAR
VERSION:2.0
PRODID:ics.py - http://git.io/lLljaA
BEGIN:VEVENT
DTSTAMP:20260425T070000Z
DESCRIPTION:In diesem Workshop stehen Stühle im Mittelpunkt – als Plätze zum Reden\, Zuhören und Zusammenkommen. Wir laden Selbsthilfeaktive ein\, ihren ganz persönlichen „schönen Platz zum Austausch“ zu gestalten – ob mit Bezug zur Erkrankung oder unabhängig davon.
DTEND:20260425T120000Z
LOCATION:Eberhardstr 4\, 87435 Kempten\, DE
ORGANIZER;CN=Selbsthilfe-Kontaktstelle Kempten:mailto:Selbsthilfe-Kontaktstelle Kempten
DTSTART:20260425T070000Z
SUMMARY:Workshop „Ein schöner Platz zum Austausch“
UID:c57d11fa-42ec-4179-aec7-d37c34f7b6fb@c57d.org
END:VEVENT
END:VCALENDAR