BEGIN:VCALENDAR
VERSION:2.0
PRODID:ics.py - http://git.io/lLljaA
BEGIN:VEVENT
DTSTAMP:20261217T120000Z
DESCRIPTION:Ein Blick in die Welt der Schokolade. 
DTEND:20261217T150000Z
LOCATION:Ilsungstr. 15a\, 86161 Augsburg\, DE
ORGANIZER;CN=Forstverwaltung der Stadt Augsburg:mailto:Forstverwaltung der Stadt Augsburg
DTSTART:20261217T120000Z
SUMMARY:Waldcafé - Schokolade
UID:a01051e6-b7f5-4024-97af-7bd785eb5b33@a010.org
END:VEVENT
END:VCALENDAR