BEGIN:VCALENDAR
VERSION:2.0
PRODID:ics.py - http://git.io/lLljaA
BEGIN:VEVENT
DTSTAMP:20261126T120000Z
DESCRIPTION:Einblicke in das Wildbienenmonitoring 2025.
DTEND:20261126T150000Z
LOCATION:Dr.-Ziegenspeck-Weg 10\, 86161 Augsburg\, DE
ORGANIZER;CN=Forstverwaltung der Stadt Augsburg:mailto:Forstverwaltung der Stadt Augsburg
DTSTART:20261126T120000Z
SUMMARY:Waldcafé - Wildbienen im Stadtwald
UID:49cb691a-629d-4296-a8f5-6a53255418ff@49cb.org
END:VEVENT
END:VCALENDAR