BEGIN:VCALENDAR
VERSION:2.0
PRODID:ics.py - http://git.io/lLljaA
BEGIN:VEVENT
DTSTAMP:20261029T120000Z
DESCRIPTION:Wissenswertes über eines der ältesten Säugetiere der Welt.
DTEND:20261029T150000Z
LOCATION:Dr.-Ziegenspeck-Weg 10\, 86161 Augsburg\, DE
ORGANIZER;CN=Forstverwaltung der Stadt Augsburg:mailto:Forstverwaltung der Stadt Augsburg
DTSTART:20261029T120000Z
SUMMARY:Waldcafé - Rund um den Igel
UID:25c58067-3b09-4038-899e-ce8812dba03d@25c5.org
END:VEVENT
END:VCALENDAR